8.466852
0.000000
0.000000
-8.466727
4480181.400000
5788982.570000
