10.160656308433
0.000000000000
0.000000000000
-10.160686249339
4485636.959006736986
5778549.702357315458
